BEGIN:VCALENDAR
VERSION:2.0
PRODID:-//Church of Scientology - Mission of San Jose - ECPv6.15.20//NONSGML v1.0//EN
CALSCALE:GREGORIAN
METHOD:PUBLISH
X-WR-CALNAME:Church of Scientology - Mission of San Jose
X-ORIGINAL-URL:https://scientologysanjose.org
X-WR-CALDESC:Events for Church of Scientology - Mission of San Jose
REFRESH-INTERVAL;VALUE=DURATION:PT1H
X-Robots-Tag:noindex
X-PUBLISHED-TTL:PT1H
BEGIN:VTIMEZONE
TZID:America/Los_Angeles
BEGIN:DAYLIGHT
TZOFFSETFROM:-0800
TZOFFSETTO:-0700
TZNAME:PDT
DTSTART:20250309T100000
END:DAYLIGHT
BEGIN:STANDARD
TZOFFSETFROM:-0700
TZOFFSETTO:-0800
TZNAME:PST
DTSTART:20251102T090000
END:STANDARD
BEGIN:DAYLIGHT
TZOFFSETFROM:-0800
TZOFFSETTO:-0700
TZNAME:PDT
DTSTART:20260308T100000
END:DAYLIGHT
BEGIN:STANDARD
TZOFFSETFROM:-0700
TZOFFSETTO:-0800
TZNAME:PST
DTSTART:20261101T090000
END:STANDARD
BEGIN:DAYLIGHT
TZOFFSETFROM:-0800
TZOFFSETTO:-0700
TZNAME:PDT
DTSTART:20270314T100000
END:DAYLIGHT
BEGIN:STANDARD
TZOFFSETFROM:-0700
TZOFFSETTO:-0800
TZNAME:PST
DTSTART:20271107T090000
END:STANDARD
END:VTIMEZONE
BEGIN:VEVENT
DTSTART;TZID=America/Los_Angeles:20260421T190000
DTEND;TZID=America/Los_Angeles:20260421T200000
DTSTAMP:20260421T013730
CREATED:20240221T042453Z
LAST-MODIFIED:20240312T035821Z
UID:10000802-1776798000-1776801600@scientologysanjose.org
SUMMARY:[Online] How to Let Go of the Past and Move Forward in Life
DESCRIPTION:Details\n\n\nNone of us want to feel held back by the past\, so why do we? How does the mind work? And how do you get rid of the feelings of irritation\, anger\, stress\, anxiety\, fear\, sadness or depression? How do you raise your self-esteem and regain your certainty about life? \nCome to this webinar and find out! \nYour ability to confidently move forward in life is vital! This means being able to do what you want to do\, have what you want to have\, and be who you want to be. And how do we make that happen? \nThat’s what this webinar is all about. \nYou will get the knowledge and assistance you need to start your journey to free yourself from the negative emotions and thoughts that hold you back from the life you want to live. \nI have been helping people overcome their barriers for more than 15 years\, and I look forward to sharing my experience with you. \nWe do our best to get started within 5 minutes of the stated time\, so plan to join a couple of minutes early to ensure you’ll be admitted. \nSign up below\, We will send you a link to the event. \n[easy_sign_up title=”Register For The Webinar Here:” phone=”0″ fnln=”1″ esu_label=”Overcome the Past Webinar” esu_class=”Overcome the Past Webinar”]
URL:https://scientologysanjose.org/event/online-how-to-let-go-of-the-past-and-move-forward-in-life/2026-04-21/
LOCATION:Zoom Meeting\, Online
ORGANIZER;CN="Leslie Gibbons":MAILTO:info@scientologysanjose.org
END:VEVENT
END:VCALENDAR