BEGIN:VCALENDAR
VERSION:2.0
PRODID:-//Church of Scientology - Mission of San Jose - ECPv6.15.20//NONSGML v1.0//EN
CALSCALE:GREGORIAN
METHOD:PUBLISH
X-WR-CALNAME:Church of Scientology - Mission of San Jose
X-ORIGINAL-URL:https://scientologysanjose.org
X-WR-CALDESC:Events for Church of Scientology - Mission of San Jose
REFRESH-INTERVAL;VALUE=DURATION:PT1H
X-Robots-Tag:noindex
X-PUBLISHED-TTL:PT1H
BEGIN:VTIMEZONE
TZID:America/Los_Angeles
BEGIN:DAYLIGHT
TZOFFSETFROM:-0800
TZOFFSETTO:-0700
TZNAME:PDT
DTSTART:20250309T100000
END:DAYLIGHT
BEGIN:STANDARD
TZOFFSETFROM:-0700
TZOFFSETTO:-0800
TZNAME:PST
DTSTART:20251102T090000
END:STANDARD
BEGIN:DAYLIGHT
TZOFFSETFROM:-0800
TZOFFSETTO:-0700
TZNAME:PDT
DTSTART:20260308T100000
END:DAYLIGHT
BEGIN:STANDARD
TZOFFSETFROM:-0700
TZOFFSETTO:-0800
TZNAME:PST
DTSTART:20261101T090000
END:STANDARD
BEGIN:DAYLIGHT
TZOFFSETFROM:-0800
TZOFFSETTO:-0700
TZNAME:PDT
DTSTART:20270314T100000
END:DAYLIGHT
BEGIN:STANDARD
TZOFFSETFROM:-0700
TZOFFSETTO:-0800
TZNAME:PST
DTSTART:20271107T090000
END:STANDARD
END:VTIMEZONE
BEGIN:VEVENT
DTSTART;TZID=America/Los_Angeles:20260423T190000
DTEND;TZID=America/Los_Angeles:20260423T200000
DTSTAMP:20260423T024235
CREATED:20240222T043650Z
LAST-MODIFIED:20240222T043650Z
UID:10000383-1776970800-1776974400@scientologysanjose.org
SUMMARY:Dissemination Workshop
DESCRIPTION:Come to our weekly dissemination workshop. \nLearn how to interest and involve your friends\, family and anyone you meet in learning how to better themselves and the world. \nEvery Thursday at 7pm.  \nRegister below. \n[easy_sign_up title=”Enroll here fir the dissemination workshop” phone=”1″ fnln=”1″ esu_label=”FSM Workshop” esu_class=”FSM Workshop”]
URL:https://scientologysanjose.org/event/dissemination-workshop/2026-04-23/
LOCATION:1083 South Winchester Blvd\, San Jose\, CA 95128\, United States
ORGANIZER;CN="Leslie Gibbons":MAILTO:info@scientologysanjose.org
END:VEVENT
END:VCALENDAR