BEGIN:VCALENDAR
VERSION:2.0
PRODID:-//Church of Scientology - Mission of San Jose - ECPv6.15.20//NONSGML v1.0//EN
CALSCALE:GREGORIAN
METHOD:PUBLISH
X-WR-CALNAME:Church of Scientology - Mission of San Jose
X-ORIGINAL-URL:https://scientologysanjose.org
X-WR-CALDESC:Events for Church of Scientology - Mission of San Jose
REFRESH-INTERVAL;VALUE=DURATION:PT1H
X-Robots-Tag:noindex
X-PUBLISHED-TTL:PT1H
BEGIN:VTIMEZONE
TZID:America/Los_Angeles
BEGIN:DAYLIGHT
TZOFFSETFROM:-0800
TZOFFSETTO:-0700
TZNAME:PDT
DTSTART:20250309T100000
END:DAYLIGHT
BEGIN:STANDARD
TZOFFSETFROM:-0700
TZOFFSETTO:-0800
TZNAME:PST
DTSTART:20251102T090000
END:STANDARD
BEGIN:DAYLIGHT
TZOFFSETFROM:-0800
TZOFFSETTO:-0700
TZNAME:PDT
DTSTART:20260308T100000
END:DAYLIGHT
BEGIN:STANDARD
TZOFFSETFROM:-0700
TZOFFSETTO:-0800
TZNAME:PST
DTSTART:20261101T090000
END:STANDARD
BEGIN:DAYLIGHT
TZOFFSETFROM:-0800
TZOFFSETTO:-0700
TZNAME:PDT
DTSTART:20270314T100000
END:DAYLIGHT
BEGIN:STANDARD
TZOFFSETFROM:-0700
TZOFFSETTO:-0800
TZNAME:PST
DTSTART:20271107T090000
END:STANDARD
END:VTIMEZONE
BEGIN:VEVENT
DTSTART;TZID=America/Los_Angeles:20260425T130000
DTEND;TZID=America/Los_Angeles:20260425T143000
DTSTAMP:20260425T032638
CREATED:20240929T000720Z
LAST-MODIFIED:20240929T000720Z
UID:10001778-1777122000-1777127400@scientologysanjose.org
SUMMARY:Put Emotional Trauma Behind You
DESCRIPTION:Emotional trauma can continue to affect you\, no matter how long ago the trauma occurred. Many things can trigger this effect\, causing you to feel the same emotional distress as you did back then. \nOften\, the more sudden the traumatic incident\, such as a death\, accident\, illness\, bad news or sudden breakup\, the more severe and lasting the effects of the emotional trauma. \nWe have many years of experience helping people fully recover from traumatic events\, and have helped hundreds of people do so. While it might seem “normal” for emotional trauma to persist\, it doesn’t have to be that way\, and can\, in fact\, be put firmly behind you relatively quickly using simple scientific\, drug-free methods. \nIn this workshop\, you’ll learn why traumatic events continue to influence you and how you can make them powerless to affect you anymore.
URL:https://scientologysanjose.org/event/put-emotional-trauma-behind-you-2/2026-04-25/
LOCATION:1083 South Winchester Blvd\, San Jose\, CA 95128\, United States
END:VEVENT
END:VCALENDAR