BEGIN:VCALENDAR
VERSION:2.0
PRODID:-//Church of Scientology - Mission of San Jose - ECPv6.15.20//NONSGML v1.0//EN
CALSCALE:GREGORIAN
METHOD:PUBLISH
X-WR-CALNAME:Church of Scientology - Mission of San Jose
X-ORIGINAL-URL:https://scientologysanjose.org
X-WR-CALDESC:Events for Church of Scientology - Mission of San Jose
REFRESH-INTERVAL;VALUE=DURATION:PT1H
X-Robots-Tag:noindex
X-PUBLISHED-TTL:PT1H
BEGIN:VTIMEZONE
TZID:America/Los_Angeles
BEGIN:DAYLIGHT
TZOFFSETFROM:-0800
TZOFFSETTO:-0700
TZNAME:PDT
DTSTART:20230312T100000
END:DAYLIGHT
BEGIN:STANDARD
TZOFFSETFROM:-0700
TZOFFSETTO:-0800
TZNAME:PST
DTSTART:20231105T090000
END:STANDARD
BEGIN:DAYLIGHT
TZOFFSETFROM:-0800
TZOFFSETTO:-0700
TZNAME:PDT
DTSTART:20240310T100000
END:DAYLIGHT
BEGIN:STANDARD
TZOFFSETFROM:-0700
TZOFFSETTO:-0800
TZNAME:PST
DTSTART:20241103T090000
END:STANDARD
BEGIN:DAYLIGHT
TZOFFSETFROM:-0800
TZOFFSETTO:-0700
TZNAME:PDT
DTSTART:20250309T100000
END:DAYLIGHT
BEGIN:STANDARD
TZOFFSETFROM:-0700
TZOFFSETTO:-0800
TZNAME:PST
DTSTART:20251102T090000
END:STANDARD
END:VTIMEZONE
BEGIN:VEVENT
DTSTART;TZID=America/Los_Angeles:20240801T190000
DTEND;TZID=America/Los_Angeles:20240801T200000
DTSTAMP:20260421T032355
CREATED:20240222T043650Z
LAST-MODIFIED:20240222T043650Z
UID:10000293-1722538800-1722542400@scientologysanjose.org
SUMMARY:Dissemination Workshop
DESCRIPTION:Come to our weekly dissemination workshop. \nLearn how to interest and involve your friends\, family and anyone you meet in learning how to better themselves and the world. \nEvery Thursday at 7pm.  \nRegister below. \n[easy_sign_up title=”Enroll here fir the dissemination workshop” phone=”1″ fnln=”1″ esu_label=”FSM Workshop” esu_class=”FSM Workshop”]
URL:https://scientologysanjose.org/event/dissemination-workshop/2024-08-01/
LOCATION:1083 South Winchester Blvd\, San Jose\, CA 95128\, United States
ORGANIZER;CN="Leslie Gibbons":MAILTO:info@scientologysanjose.org
END:VEVENT
BEGIN:VEVENT
DTSTART;TZID=America/Los_Angeles:20240806T190000
DTEND;TZID=America/Los_Angeles:20240806T203000
DTSTAMP:20260421T032355
CREATED:20240312T031739Z
LAST-MODIFIED:20240320T032710Z
UID:10000539-1722970800-1722976200@scientologysanjose.org
SUMMARY:[Online] How to Live a Stress-free Life
DESCRIPTION:  \n  \n  \n  \n\nDetails\n\n\nIf you are feeling stressed these days\, you are not alone. At this meetup\, presented by Leslie Gibbons\, our goal is to help you understand what causes stress so that you can de-stress your future. When you can do that\, you will be better able to achieve your goals: whether that means creating a better relationship\, feeling better about work\, being less forgetful\, having more self confidence\, or something else. \nThis group is hosted by the Dianetics and Scientology Life Improvement Center in San Jose\, CA. We welcome people of all faiths and beliefs. \nSign up below:\n[easy_sign_up title=”How to Handle Stress Webinar” phone=”0″ fnln=”1″ esu_label=”First Tuesday Stress Webinar” esu_class=”Stress Webinar First Tuesday”]
URL:https://scientologysanjose.org/event/online-how-to-live-a-stress-free-life/2024-08-06/
LOCATION:1083 South Winchester Blvd\, San Jose\, CA 95128\, United States
ORGANIZER;CN="Leslie Gibbons":MAILTO:info@scientologysanjose.org
END:VEVENT
BEGIN:VEVENT
DTSTART;TZID=America/Los_Angeles:20240807T190000
DTEND;TZID=America/Los_Angeles:20240807T203000
DTSTAMP:20260421T032355
CREATED:20240322T033902Z
LAST-MODIFIED:20240322T033902Z
UID:10001335-1723057200-1723062600@scientologysanjose.org
SUMMARY:[Online] Creating Great Relationships Series
DESCRIPTION:Details\n\nWhat does it really take to have great relationships?\nWho can you trust?\nWhat is the best way to get to really know someone?\nHow can you improve your work relationships?\n\nThis webinar series is comprehensive and designed to equip participants with the skills and insights needed to foster more fulfilling personal and professional relationships. \nThis series delves into key areas such as effective communication\, conflict resolution\, empathy\, and building trust. \nIf you’ve had one or more failed relationship\, this webinar series includes a specific webinar on how to overcome the emotional scars that can result from a bad relationship. \nNote that we endeavor to start our webinars within 5 minutes of the stated time. Do your best to join a little early to ensure you’ll be admitted. \nThis group is hosted by the Dianetics and Scientology Life Improvement Center. We welcome people of all faiths and beliefs. \nSign up below (we will send a zoom link 10 minutes before the webinar):\n[easy_sign_up title=”Free Relationships Webinar” phone=”0″ fnln=”1″ esu_label=”Relationships Webinar Series” esu_class=”Relationships Webinar Series”]
URL:https://scientologysanjose.org/event/online-creating-great-relationships-series/2024-08-07/
LOCATION:Zoom Meeting\, Online
ORGANIZER;CN="Leslie Gibbons":MAILTO:info@scientologysanjose.org
END:VEVENT
BEGIN:VEVENT
DTSTART;TZID=America/Los_Angeles:20240808T190000
DTEND;TZID=America/Los_Angeles:20240808T200000
DTSTAMP:20260421T032355
CREATED:20240222T043650Z
LAST-MODIFIED:20240222T043650Z
UID:10000294-1723143600-1723147200@scientologysanjose.org
SUMMARY:Dissemination Workshop
DESCRIPTION:Come to our weekly dissemination workshop. \nLearn how to interest and involve your friends\, family and anyone you meet in learning how to better themselves and the world. \nEvery Thursday at 7pm.  \nRegister below. \n[easy_sign_up title=”Enroll here fir the dissemination workshop” phone=”1″ fnln=”1″ esu_label=”FSM Workshop” esu_class=”FSM Workshop”]
URL:https://scientologysanjose.org/event/dissemination-workshop/2024-08-08/
LOCATION:1083 South Winchester Blvd\, San Jose\, CA 95128\, United States
ORGANIZER;CN="Leslie Gibbons":MAILTO:info@scientologysanjose.org
END:VEVENT
BEGIN:VEVENT
DTSTART;TZID=America/Los_Angeles:20240813T190000
DTEND;TZID=America/Los_Angeles:20240813T203000
DTSTAMP:20260421T032355
CREATED:20240320T040047Z
LAST-MODIFIED:20240320T040121Z
UID:10000893-1723575600-1723581000@scientologysanjose.org
SUMMARY:[Online] Formula for Successful Communication
DESCRIPTION:Details\n\n\nGood communication skills are essential to successful living\, and everyone has the ability to learn how to communicate well.\nIf you are someone who struggles to speak up\, has difficulty getting your point across or knowing how to handle someone who is angry or upset\, this event is for you.\nPlease note: if you’d like to come to our center to actually practice a couple of techniques\, let us know. We typically have these in-person workshops on Monday evenings at 7pm.\nThis group is created by the Dianetics & Scientology Life Improvement Center. All are welcome.\nSing up below:\n[easy_sign_up title=”Reserve your spot:” phone=”0″ fnln=”1″ esu_label=”Online Communication Webinar” esu_class=”Online Communication Webinar”]\n\n 
URL:https://scientologysanjose.org/event/online-formula-for-successful-communication/2024-08-13/
LOCATION:Zoom Meeting\, Online
ORGANIZER;CN="Leslie Gibbons":MAILTO:info@scientologysanjose.org
END:VEVENT
BEGIN:VEVENT
DTSTART;TZID=America/Los_Angeles:20240814T190000
DTEND;TZID=America/Los_Angeles:20240814T203000
DTSTAMP:20260421T032355
CREATED:20240322T033902Z
LAST-MODIFIED:20240322T033902Z
UID:10001336-1723662000-1723667400@scientologysanjose.org
SUMMARY:[Online] Creating Great Relationships Series
DESCRIPTION:Details\n\nWhat does it really take to have great relationships?\nWho can you trust?\nWhat is the best way to get to really know someone?\nHow can you improve your work relationships?\n\nThis webinar series is comprehensive and designed to equip participants with the skills and insights needed to foster more fulfilling personal and professional relationships. \nThis series delves into key areas such as effective communication\, conflict resolution\, empathy\, and building trust. \nIf you’ve had one or more failed relationship\, this webinar series includes a specific webinar on how to overcome the emotional scars that can result from a bad relationship. \nNote that we endeavor to start our webinars within 5 minutes of the stated time. Do your best to join a little early to ensure you’ll be admitted. \nThis group is hosted by the Dianetics and Scientology Life Improvement Center. We welcome people of all faiths and beliefs. \nSign up below (we will send a zoom link 10 minutes before the webinar):\n[easy_sign_up title=”Free Relationships Webinar” phone=”0″ fnln=”1″ esu_label=”Relationships Webinar Series” esu_class=”Relationships Webinar Series”]
URL:https://scientologysanjose.org/event/online-creating-great-relationships-series/2024-08-14/
LOCATION:Zoom Meeting\, Online
ORGANIZER;CN="Leslie Gibbons":MAILTO:info@scientologysanjose.org
END:VEVENT
BEGIN:VEVENT
DTSTART;TZID=America/Los_Angeles:20240815T190000
DTEND;TZID=America/Los_Angeles:20240815T200000
DTSTAMP:20260421T032355
CREATED:20240222T043650Z
LAST-MODIFIED:20240222T043650Z
UID:10000295-1723748400-1723752000@scientologysanjose.org
SUMMARY:Dissemination Workshop
DESCRIPTION:Come to our weekly dissemination workshop. \nLearn how to interest and involve your friends\, family and anyone you meet in learning how to better themselves and the world. \nEvery Thursday at 7pm.  \nRegister below. \n[easy_sign_up title=”Enroll here fir the dissemination workshop” phone=”1″ fnln=”1″ esu_label=”FSM Workshop” esu_class=”FSM Workshop”]
URL:https://scientologysanjose.org/event/dissemination-workshop/2024-08-15/
LOCATION:1083 South Winchester Blvd\, San Jose\, CA 95128\, United States
ORGANIZER;CN="Leslie Gibbons":MAILTO:info@scientologysanjose.org
END:VEVENT
BEGIN:VEVENT
DTSTART;TZID=America/Los_Angeles:20240820T190000
DTEND;TZID=America/Los_Angeles:20240820T200000
DTSTAMP:20260421T032355
CREATED:20240221T042453Z
LAST-MODIFIED:20240312T035821Z
UID:10000782-1724180400-1724184000@scientologysanjose.org
SUMMARY:[Online] How to Let Go of the Past and Move Forward in Life
DESCRIPTION:Details\n\n\nNone of us want to feel held back by the past\, so why do we? How does the mind work? And how do you get rid of the feelings of irritation\, anger\, stress\, anxiety\, fear\, sadness or depression? How do you raise your self-esteem and regain your certainty about life? \nCome to this webinar and find out! \nYour ability to confidently move forward in life is vital! This means being able to do what you want to do\, have what you want to have\, and be who you want to be. And how do we make that happen? \nThat’s what this webinar is all about. \nYou will get the knowledge and assistance you need to start your journey to free yourself from the negative emotions and thoughts that hold you back from the life you want to live. \nI have been helping people overcome their barriers for more than 15 years\, and I look forward to sharing my experience with you. \nWe do our best to get started within 5 minutes of the stated time\, so plan to join a couple of minutes early to ensure you’ll be admitted. \nSign up below\, We will send you a link to the event. \n[easy_sign_up title=”Register For The Webinar Here:” phone=”0″ fnln=”1″ esu_label=”Overcome the Past Webinar” esu_class=”Overcome the Past Webinar”]
URL:https://scientologysanjose.org/event/online-how-to-let-go-of-the-past-and-move-forward-in-life/2024-08-20/
LOCATION:Zoom Meeting\, Online
ORGANIZER;CN="Leslie Gibbons":MAILTO:info@scientologysanjose.org
END:VEVENT
BEGIN:VEVENT
DTSTART;TZID=America/Los_Angeles:20240821T190000
DTEND;TZID=America/Los_Angeles:20240821T203000
DTSTAMP:20260421T032355
CREATED:20240322T033902Z
LAST-MODIFIED:20240322T033902Z
UID:10001337-1724266800-1724272200@scientologysanjose.org
SUMMARY:[Online] Creating Great Relationships Series
DESCRIPTION:Details\n\nWhat does it really take to have great relationships?\nWho can you trust?\nWhat is the best way to get to really know someone?\nHow can you improve your work relationships?\n\nThis webinar series is comprehensive and designed to equip participants with the skills and insights needed to foster more fulfilling personal and professional relationships. \nThis series delves into key areas such as effective communication\, conflict resolution\, empathy\, and building trust. \nIf you’ve had one or more failed relationship\, this webinar series includes a specific webinar on how to overcome the emotional scars that can result from a bad relationship. \nNote that we endeavor to start our webinars within 5 minutes of the stated time. Do your best to join a little early to ensure you’ll be admitted. \nThis group is hosted by the Dianetics and Scientology Life Improvement Center. We welcome people of all faiths and beliefs. \nSign up below (we will send a zoom link 10 minutes before the webinar):\n[easy_sign_up title=”Free Relationships Webinar” phone=”0″ fnln=”1″ esu_label=”Relationships Webinar Series” esu_class=”Relationships Webinar Series”]
URL:https://scientologysanjose.org/event/online-creating-great-relationships-series/2024-08-21/
LOCATION:Zoom Meeting\, Online
ORGANIZER;CN="Leslie Gibbons":MAILTO:info@scientologysanjose.org
END:VEVENT
BEGIN:VEVENT
DTSTART;TZID=America/Los_Angeles:20240822T190000
DTEND;TZID=America/Los_Angeles:20240822T200000
DTSTAMP:20260421T032355
CREATED:20240222T043650Z
LAST-MODIFIED:20240222T043650Z
UID:10000296-1724353200-1724356800@scientologysanjose.org
SUMMARY:Dissemination Workshop
DESCRIPTION:Come to our weekly dissemination workshop. \nLearn how to interest and involve your friends\, family and anyone you meet in learning how to better themselves and the world. \nEvery Thursday at 7pm.  \nRegister below. \n[easy_sign_up title=”Enroll here fir the dissemination workshop” phone=”1″ fnln=”1″ esu_label=”FSM Workshop” esu_class=”FSM Workshop”]
URL:https://scientologysanjose.org/event/dissemination-workshop/2024-08-22/
LOCATION:1083 South Winchester Blvd\, San Jose\, CA 95128\, United States
ORGANIZER;CN="Leslie Gibbons":MAILTO:info@scientologysanjose.org
END:VEVENT
BEGIN:VEVENT
DTSTART;TZID=America/Los_Angeles:20240827T190000
DTEND;TZID=America/Los_Angeles:20240827T203000
DTSTAMP:20260421T032355
CREATED:20240321T033348Z
LAST-MODIFIED:20240321T033348Z
UID:10001136-1724785200-1724790600@scientologysanjose.org
SUMMARY:[Online] How To Improve Your Communication Skills
DESCRIPTION:Details\n\n\nGood communication skills are essential to successful living\, and everyone has the ability to learn how to communicate well.\nIf you are someone who struggles to speak up\, has difficulty getting your point across or knowing how to handle someone who is angry or upset\, this event is for you.\nPlease note: if you’d like to come to our center to actually practice a couple of techniques\, let us know. We typically have these in-person workshops on Monday evenings at 7pm.\nThis group is created by the Dianetics & Scientology Life Improvement Center. All are welcome.\nSing up below:\n[easy_sign_up title=”Reserve your spot:” phone=”0″ fnln=”1″ esu_label=”Online Communication Webinar” esu_class=”Online Communication Webinar”]\n\n 
URL:https://scientologysanjose.org/event/online-how-to-improve-your-communication-skills/2024-08-27/
LOCATION:Zoom Meeting\, Online
ORGANIZER;CN="Leslie Gibbons":MAILTO:info@scientologysanjose.org
END:VEVENT
BEGIN:VEVENT
DTSTART;TZID=America/Los_Angeles:20240828T190000
DTEND;TZID=America/Los_Angeles:20240828T203000
DTSTAMP:20260421T032355
CREATED:20240322T033902Z
LAST-MODIFIED:20240322T033902Z
UID:10001338-1724871600-1724877000@scientologysanjose.org
SUMMARY:[Online] Creating Great Relationships Series
DESCRIPTION:Details\n\nWhat does it really take to have great relationships?\nWho can you trust?\nWhat is the best way to get to really know someone?\nHow can you improve your work relationships?\n\nThis webinar series is comprehensive and designed to equip participants with the skills and insights needed to foster more fulfilling personal and professional relationships. \nThis series delves into key areas such as effective communication\, conflict resolution\, empathy\, and building trust. \nIf you’ve had one or more failed relationship\, this webinar series includes a specific webinar on how to overcome the emotional scars that can result from a bad relationship. \nNote that we endeavor to start our webinars within 5 minutes of the stated time. Do your best to join a little early to ensure you’ll be admitted. \nThis group is hosted by the Dianetics and Scientology Life Improvement Center. We welcome people of all faiths and beliefs. \nSign up below (we will send a zoom link 10 minutes before the webinar):\n[easy_sign_up title=”Free Relationships Webinar” phone=”0″ fnln=”1″ esu_label=”Relationships Webinar Series” esu_class=”Relationships Webinar Series”]
URL:https://scientologysanjose.org/event/online-creating-great-relationships-series/2024-08-28/
LOCATION:Zoom Meeting\, Online
ORGANIZER;CN="Leslie Gibbons":MAILTO:info@scientologysanjose.org
END:VEVENT
BEGIN:VEVENT
DTSTART;TZID=America/Los_Angeles:20240829T190000
DTEND;TZID=America/Los_Angeles:20240829T200000
DTSTAMP:20260421T032355
CREATED:20240222T043650Z
LAST-MODIFIED:20240222T043650Z
UID:10000297-1724958000-1724961600@scientologysanjose.org
SUMMARY:Dissemination Workshop
DESCRIPTION:Come to our weekly dissemination workshop. \nLearn how to interest and involve your friends\, family and anyone you meet in learning how to better themselves and the world. \nEvery Thursday at 7pm.  \nRegister below. \n[easy_sign_up title=”Enroll here fir the dissemination workshop” phone=”1″ fnln=”1″ esu_label=”FSM Workshop” esu_class=”FSM Workshop”]
URL:https://scientologysanjose.org/event/dissemination-workshop/2024-08-29/
LOCATION:1083 South Winchester Blvd\, San Jose\, CA 95128\, United States
ORGANIZER;CN="Leslie Gibbons":MAILTO:info@scientologysanjose.org
END:VEVENT
END:VCALENDAR