BEGIN:VCALENDAR
VERSION:2.0
PRODID:-//Church of Scientology - Mission of San Jose - ECPv6.15.20//NONSGML v1.0//EN
CALSCALE:GREGORIAN
METHOD:PUBLISH
X-WR-CALNAME:Church of Scientology - Mission of San Jose
X-ORIGINAL-URL:https://scientologysanjose.org
X-WR-CALDESC:Events for Church of Scientology - Mission of San Jose
REFRESH-INTERVAL;VALUE=DURATION:PT1H
X-Robots-Tag:noindex
X-PUBLISHED-TTL:PT1H
BEGIN:VTIMEZONE
TZID:America/Los_Angeles
BEGIN:DAYLIGHT
TZOFFSETFROM:-0800
TZOFFSETTO:-0700
TZNAME:PDT
DTSTART:20250309T100000
END:DAYLIGHT
BEGIN:STANDARD
TZOFFSETFROM:-0700
TZOFFSETTO:-0800
TZNAME:PST
DTSTART:20251102T090000
END:STANDARD
BEGIN:DAYLIGHT
TZOFFSETFROM:-0800
TZOFFSETTO:-0700
TZNAME:PDT
DTSTART:20260308T100000
END:DAYLIGHT
BEGIN:STANDARD
TZOFFSETFROM:-0700
TZOFFSETTO:-0800
TZNAME:PST
DTSTART:20261101T090000
END:STANDARD
BEGIN:DAYLIGHT
TZOFFSETFROM:-0800
TZOFFSETTO:-0700
TZNAME:PDT
DTSTART:20270314T100000
END:DAYLIGHT
BEGIN:STANDARD
TZOFFSETFROM:-0700
TZOFFSETTO:-0800
TZNAME:PST
DTSTART:20271107T090000
END:STANDARD
END:VTIMEZONE
BEGIN:VEVENT
DTSTART;TZID=America/Los_Angeles:20260423T190000
DTEND;TZID=America/Los_Angeles:20260423T200000
DTSTAMP:20260421T011636
CREATED:20240222T043650Z
LAST-MODIFIED:20240222T043650Z
UID:10000383-1776970800-1776974400@scientologysanjose.org
SUMMARY:Dissemination Workshop
DESCRIPTION:Come to our weekly dissemination workshop. \nLearn how to interest and involve your friends\, family and anyone you meet in learning how to better themselves and the world. \nEvery Thursday at 7pm.  \nRegister below. \n[easy_sign_up title=”Enroll here fir the dissemination workshop” phone=”1″ fnln=”1″ esu_label=”FSM Workshop” esu_class=”FSM Workshop”]
URL:https://scientologysanjose.org/event/dissemination-workshop/2026-04-23/
LOCATION:1083 South Winchester Blvd\, San Jose\, CA 95128\, United States
ORGANIZER;CN="Leslie Gibbons":MAILTO:info@scientologysanjose.org
END:VEVENT
BEGIN:VEVENT
DTSTART;TZID=America/Los_Angeles:20260430T190000
DTEND;TZID=America/Los_Angeles:20260430T200000
DTSTAMP:20260421T011636
CREATED:20240222T043650Z
LAST-MODIFIED:20240222T043650Z
UID:10000384-1777575600-1777579200@scientologysanjose.org
SUMMARY:Dissemination Workshop
DESCRIPTION:Come to our weekly dissemination workshop. \nLearn how to interest and involve your friends\, family and anyone you meet in learning how to better themselves and the world. \nEvery Thursday at 7pm.  \nRegister below. \n[easy_sign_up title=”Enroll here fir the dissemination workshop” phone=”1″ fnln=”1″ esu_label=”FSM Workshop” esu_class=”FSM Workshop”]
URL:https://scientologysanjose.org/event/dissemination-workshop/2026-04-30/
LOCATION:1083 South Winchester Blvd\, San Jose\, CA 95128\, United States
ORGANIZER;CN="Leslie Gibbons":MAILTO:info@scientologysanjose.org
END:VEVENT
BEGIN:VEVENT
DTSTART;TZID=America/Los_Angeles:20260507T190000
DTEND;TZID=America/Los_Angeles:20260507T200000
DTSTAMP:20260421T011636
CREATED:20240222T043650Z
LAST-MODIFIED:20240222T043650Z
UID:10000385-1778180400-1778184000@scientologysanjose.org
SUMMARY:Dissemination Workshop
DESCRIPTION:Come to our weekly dissemination workshop. \nLearn how to interest and involve your friends\, family and anyone you meet in learning how to better themselves and the world. \nEvery Thursday at 7pm.  \nRegister below. \n[easy_sign_up title=”Enroll here fir the dissemination workshop” phone=”1″ fnln=”1″ esu_label=”FSM Workshop” esu_class=”FSM Workshop”]
URL:https://scientologysanjose.org/event/dissemination-workshop/2026-05-07/
LOCATION:1083 South Winchester Blvd\, San Jose\, CA 95128\, United States
ORGANIZER;CN="Leslie Gibbons":MAILTO:info@scientologysanjose.org
END:VEVENT
BEGIN:VEVENT
DTSTART;TZID=America/Los_Angeles:20260514T190000
DTEND;TZID=America/Los_Angeles:20260514T200000
DTSTAMP:20260421T011636
CREATED:20240222T043650Z
LAST-MODIFIED:20240222T043650Z
UID:10000386-1778785200-1778788800@scientologysanjose.org
SUMMARY:Dissemination Workshop
DESCRIPTION:Come to our weekly dissemination workshop. \nLearn how to interest and involve your friends\, family and anyone you meet in learning how to better themselves and the world. \nEvery Thursday at 7pm.  \nRegister below. \n[easy_sign_up title=”Enroll here fir the dissemination workshop” phone=”1″ fnln=”1″ esu_label=”FSM Workshop” esu_class=”FSM Workshop”]
URL:https://scientologysanjose.org/event/dissemination-workshop/2026-05-14/
LOCATION:1083 South Winchester Blvd\, San Jose\, CA 95128\, United States
ORGANIZER;CN="Leslie Gibbons":MAILTO:info@scientologysanjose.org
END:VEVENT
BEGIN:VEVENT
DTSTART;TZID=America/Los_Angeles:20260521T190000
DTEND;TZID=America/Los_Angeles:20260521T200000
DTSTAMP:20260421T011636
CREATED:20240222T043650Z
LAST-MODIFIED:20240222T043650Z
UID:10000387-1779390000-1779393600@scientologysanjose.org
SUMMARY:Dissemination Workshop
DESCRIPTION:Come to our weekly dissemination workshop. \nLearn how to interest and involve your friends\, family and anyone you meet in learning how to better themselves and the world. \nEvery Thursday at 7pm.  \nRegister below. \n[easy_sign_up title=”Enroll here fir the dissemination workshop” phone=”1″ fnln=”1″ esu_label=”FSM Workshop” esu_class=”FSM Workshop”]
URL:https://scientologysanjose.org/event/dissemination-workshop/2026-05-21/
LOCATION:1083 South Winchester Blvd\, San Jose\, CA 95128\, United States
ORGANIZER;CN="Leslie Gibbons":MAILTO:info@scientologysanjose.org
END:VEVENT
BEGIN:VEVENT
DTSTART;TZID=America/Los_Angeles:20260528T190000
DTEND;TZID=America/Los_Angeles:20260528T200000
DTSTAMP:20260421T011636
CREATED:20240222T043650Z
LAST-MODIFIED:20240222T043650Z
UID:10000388-1779994800-1779998400@scientologysanjose.org
SUMMARY:Dissemination Workshop
DESCRIPTION:Come to our weekly dissemination workshop. \nLearn how to interest and involve your friends\, family and anyone you meet in learning how to better themselves and the world. \nEvery Thursday at 7pm.  \nRegister below. \n[easy_sign_up title=”Enroll here fir the dissemination workshop” phone=”1″ fnln=”1″ esu_label=”FSM Workshop” esu_class=”FSM Workshop”]
URL:https://scientologysanjose.org/event/dissemination-workshop/2026-05-28/
LOCATION:1083 South Winchester Blvd\, San Jose\, CA 95128\, United States
ORGANIZER;CN="Leslie Gibbons":MAILTO:info@scientologysanjose.org
END:VEVENT
BEGIN:VEVENT
DTSTART;TZID=America/Los_Angeles:20260604T190000
DTEND;TZID=America/Los_Angeles:20260604T200000
DTSTAMP:20260421T011636
CREATED:20240222T043650Z
LAST-MODIFIED:20240222T043650Z
UID:10000389-1780599600-1780603200@scientologysanjose.org
SUMMARY:Dissemination Workshop
DESCRIPTION:Come to our weekly dissemination workshop. \nLearn how to interest and involve your friends\, family and anyone you meet in learning how to better themselves and the world. \nEvery Thursday at 7pm.  \nRegister below. \n[easy_sign_up title=”Enroll here fir the dissemination workshop” phone=”1″ fnln=”1″ esu_label=”FSM Workshop” esu_class=”FSM Workshop”]
URL:https://scientologysanjose.org/event/dissemination-workshop/2026-06-04/
LOCATION:1083 South Winchester Blvd\, San Jose\, CA 95128\, United States
ORGANIZER;CN="Leslie Gibbons":MAILTO:info@scientologysanjose.org
END:VEVENT
BEGIN:VEVENT
DTSTART;TZID=America/Los_Angeles:20260611T190000
DTEND;TZID=America/Los_Angeles:20260611T200000
DTSTAMP:20260421T011636
CREATED:20240222T043650Z
LAST-MODIFIED:20240222T043650Z
UID:10000390-1781204400-1781208000@scientologysanjose.org
SUMMARY:Dissemination Workshop
DESCRIPTION:Come to our weekly dissemination workshop. \nLearn how to interest and involve your friends\, family and anyone you meet in learning how to better themselves and the world. \nEvery Thursday at 7pm.  \nRegister below. \n[easy_sign_up title=”Enroll here fir the dissemination workshop” phone=”1″ fnln=”1″ esu_label=”FSM Workshop” esu_class=”FSM Workshop”]
URL:https://scientologysanjose.org/event/dissemination-workshop/2026-06-11/
LOCATION:1083 South Winchester Blvd\, San Jose\, CA 95128\, United States
ORGANIZER;CN="Leslie Gibbons":MAILTO:info@scientologysanjose.org
END:VEVENT
BEGIN:VEVENT
DTSTART;TZID=America/Los_Angeles:20260618T190000
DTEND;TZID=America/Los_Angeles:20260618T200000
DTSTAMP:20260421T011636
CREATED:20240222T043650Z
LAST-MODIFIED:20240222T043650Z
UID:10000391-1781809200-1781812800@scientologysanjose.org
SUMMARY:Dissemination Workshop
DESCRIPTION:Come to our weekly dissemination workshop. \nLearn how to interest and involve your friends\, family and anyone you meet in learning how to better themselves and the world. \nEvery Thursday at 7pm.  \nRegister below. \n[easy_sign_up title=”Enroll here fir the dissemination workshop” phone=”1″ fnln=”1″ esu_label=”FSM Workshop” esu_class=”FSM Workshop”]
URL:https://scientologysanjose.org/event/dissemination-workshop/2026-06-18/
LOCATION:1083 South Winchester Blvd\, San Jose\, CA 95128\, United States
ORGANIZER;CN="Leslie Gibbons":MAILTO:info@scientologysanjose.org
END:VEVENT
BEGIN:VEVENT
DTSTART;TZID=America/Los_Angeles:20260625T190000
DTEND;TZID=America/Los_Angeles:20260625T200000
DTSTAMP:20260421T011636
CREATED:20240222T043650Z
LAST-MODIFIED:20240222T043650Z
UID:10000392-1782414000-1782417600@scientologysanjose.org
SUMMARY:Dissemination Workshop
DESCRIPTION:Come to our weekly dissemination workshop. \nLearn how to interest and involve your friends\, family and anyone you meet in learning how to better themselves and the world. \nEvery Thursday at 7pm.  \nRegister below. \n[easy_sign_up title=”Enroll here fir the dissemination workshop” phone=”1″ fnln=”1″ esu_label=”FSM Workshop” esu_class=”FSM Workshop”]
URL:https://scientologysanjose.org/event/dissemination-workshop/2026-06-25/
LOCATION:1083 South Winchester Blvd\, San Jose\, CA 95128\, United States
ORGANIZER;CN="Leslie Gibbons":MAILTO:info@scientologysanjose.org
END:VEVENT
BEGIN:VEVENT
DTSTART;TZID=America/Los_Angeles:20260702T190000
DTEND;TZID=America/Los_Angeles:20260702T200000
DTSTAMP:20260421T011636
CREATED:20240222T043650Z
LAST-MODIFIED:20240222T043650Z
UID:10000393-1783018800-1783022400@scientologysanjose.org
SUMMARY:Dissemination Workshop
DESCRIPTION:Come to our weekly dissemination workshop. \nLearn how to interest and involve your friends\, family and anyone you meet in learning how to better themselves and the world. \nEvery Thursday at 7pm.  \nRegister below. \n[easy_sign_up title=”Enroll here fir the dissemination workshop” phone=”1″ fnln=”1″ esu_label=”FSM Workshop” esu_class=”FSM Workshop”]
URL:https://scientologysanjose.org/event/dissemination-workshop/2026-07-02/
LOCATION:1083 South Winchester Blvd\, San Jose\, CA 95128\, United States
ORGANIZER;CN="Leslie Gibbons":MAILTO:info@scientologysanjose.org
END:VEVENT
BEGIN:VEVENT
DTSTART;TZID=America/Los_Angeles:20260709T190000
DTEND;TZID=America/Los_Angeles:20260709T200000
DTSTAMP:20260421T011636
CREATED:20240222T043650Z
LAST-MODIFIED:20240222T043650Z
UID:10000394-1783623600-1783627200@scientologysanjose.org
SUMMARY:Dissemination Workshop
DESCRIPTION:Come to our weekly dissemination workshop. \nLearn how to interest and involve your friends\, family and anyone you meet in learning how to better themselves and the world. \nEvery Thursday at 7pm.  \nRegister below. \n[easy_sign_up title=”Enroll here fir the dissemination workshop” phone=”1″ fnln=”1″ esu_label=”FSM Workshop” esu_class=”FSM Workshop”]
URL:https://scientologysanjose.org/event/dissemination-workshop/2026-07-09/
LOCATION:1083 South Winchester Blvd\, San Jose\, CA 95128\, United States
ORGANIZER;CN="Leslie Gibbons":MAILTO:info@scientologysanjose.org
END:VEVENT
BEGIN:VEVENT
DTSTART;TZID=America/Los_Angeles:20260716T190000
DTEND;TZID=America/Los_Angeles:20260716T200000
DTSTAMP:20260421T011636
CREATED:20240222T043650Z
LAST-MODIFIED:20240222T043650Z
UID:10000395-1784228400-1784232000@scientologysanjose.org
SUMMARY:Dissemination Workshop
DESCRIPTION:Come to our weekly dissemination workshop. \nLearn how to interest and involve your friends\, family and anyone you meet in learning how to better themselves and the world. \nEvery Thursday at 7pm.  \nRegister below. \n[easy_sign_up title=”Enroll here fir the dissemination workshop” phone=”1″ fnln=”1″ esu_label=”FSM Workshop” esu_class=”FSM Workshop”]
URL:https://scientologysanjose.org/event/dissemination-workshop/2026-07-16/
LOCATION:1083 South Winchester Blvd\, San Jose\, CA 95128\, United States
ORGANIZER;CN="Leslie Gibbons":MAILTO:info@scientologysanjose.org
END:VEVENT
BEGIN:VEVENT
DTSTART;TZID=America/Los_Angeles:20260723T190000
DTEND;TZID=America/Los_Angeles:20260723T200000
DTSTAMP:20260421T011636
CREATED:20240222T043650Z
LAST-MODIFIED:20240222T043650Z
UID:10000396-1784833200-1784836800@scientologysanjose.org
SUMMARY:Dissemination Workshop
DESCRIPTION:Come to our weekly dissemination workshop. \nLearn how to interest and involve your friends\, family and anyone you meet in learning how to better themselves and the world. \nEvery Thursday at 7pm.  \nRegister below. \n[easy_sign_up title=”Enroll here fir the dissemination workshop” phone=”1″ fnln=”1″ esu_label=”FSM Workshop” esu_class=”FSM Workshop”]
URL:https://scientologysanjose.org/event/dissemination-workshop/2026-07-23/
LOCATION:1083 South Winchester Blvd\, San Jose\, CA 95128\, United States
ORGANIZER;CN="Leslie Gibbons":MAILTO:info@scientologysanjose.org
END:VEVENT
BEGIN:VEVENT
DTSTART;TZID=America/Los_Angeles:20260730T190000
DTEND;TZID=America/Los_Angeles:20260730T200000
DTSTAMP:20260421T011636
CREATED:20240222T043650Z
LAST-MODIFIED:20240222T043650Z
UID:10000397-1785438000-1785441600@scientologysanjose.org
SUMMARY:Dissemination Workshop
DESCRIPTION:Come to our weekly dissemination workshop. \nLearn how to interest and involve your friends\, family and anyone you meet in learning how to better themselves and the world. \nEvery Thursday at 7pm.  \nRegister below. \n[easy_sign_up title=”Enroll here fir the dissemination workshop” phone=”1″ fnln=”1″ esu_label=”FSM Workshop” esu_class=”FSM Workshop”]
URL:https://scientologysanjose.org/event/dissemination-workshop/2026-07-30/
LOCATION:1083 South Winchester Blvd\, San Jose\, CA 95128\, United States
ORGANIZER;CN="Leslie Gibbons":MAILTO:info@scientologysanjose.org
END:VEVENT
BEGIN:VEVENT
DTSTART;TZID=America/Los_Angeles:20260806T190000
DTEND;TZID=America/Los_Angeles:20260806T200000
DTSTAMP:20260421T011636
CREATED:20240222T043650Z
LAST-MODIFIED:20240222T043650Z
UID:10000398-1786042800-1786046400@scientologysanjose.org
SUMMARY:Dissemination Workshop
DESCRIPTION:Come to our weekly dissemination workshop. \nLearn how to interest and involve your friends\, family and anyone you meet in learning how to better themselves and the world. \nEvery Thursday at 7pm.  \nRegister below. \n[easy_sign_up title=”Enroll here fir the dissemination workshop” phone=”1″ fnln=”1″ esu_label=”FSM Workshop” esu_class=”FSM Workshop”]
URL:https://scientologysanjose.org/event/dissemination-workshop/2026-08-06/
LOCATION:1083 South Winchester Blvd\, San Jose\, CA 95128\, United States
ORGANIZER;CN="Leslie Gibbons":MAILTO:info@scientologysanjose.org
END:VEVENT
BEGIN:VEVENT
DTSTART;TZID=America/Los_Angeles:20260813T190000
DTEND;TZID=America/Los_Angeles:20260813T200000
DTSTAMP:20260421T011636
CREATED:20240222T043650Z
LAST-MODIFIED:20240222T043650Z
UID:10000399-1786647600-1786651200@scientologysanjose.org
SUMMARY:Dissemination Workshop
DESCRIPTION:Come to our weekly dissemination workshop. \nLearn how to interest and involve your friends\, family and anyone you meet in learning how to better themselves and the world. \nEvery Thursday at 7pm.  \nRegister below. \n[easy_sign_up title=”Enroll here fir the dissemination workshop” phone=”1″ fnln=”1″ esu_label=”FSM Workshop” esu_class=”FSM Workshop”]
URL:https://scientologysanjose.org/event/dissemination-workshop/2026-08-13/
LOCATION:1083 South Winchester Blvd\, San Jose\, CA 95128\, United States
ORGANIZER;CN="Leslie Gibbons":MAILTO:info@scientologysanjose.org
END:VEVENT
BEGIN:VEVENT
DTSTART;TZID=America/Los_Angeles:20260820T190000
DTEND;TZID=America/Los_Angeles:20260820T200000
DTSTAMP:20260421T011636
CREATED:20240222T043650Z
LAST-MODIFIED:20240222T043650Z
UID:10000400-1787252400-1787256000@scientologysanjose.org
SUMMARY:Dissemination Workshop
DESCRIPTION:Come to our weekly dissemination workshop. \nLearn how to interest and involve your friends\, family and anyone you meet in learning how to better themselves and the world. \nEvery Thursday at 7pm.  \nRegister below. \n[easy_sign_up title=”Enroll here fir the dissemination workshop” phone=”1″ fnln=”1″ esu_label=”FSM Workshop” esu_class=”FSM Workshop”]
URL:https://scientologysanjose.org/event/dissemination-workshop/2026-08-20/
LOCATION:1083 South Winchester Blvd\, San Jose\, CA 95128\, United States
ORGANIZER;CN="Leslie Gibbons":MAILTO:info@scientologysanjose.org
END:VEVENT
BEGIN:VEVENT
DTSTART;TZID=America/Los_Angeles:20260827T190000
DTEND;TZID=America/Los_Angeles:20260827T200000
DTSTAMP:20260421T011636
CREATED:20240222T043650Z
LAST-MODIFIED:20240222T043650Z
UID:10000401-1787857200-1787860800@scientologysanjose.org
SUMMARY:Dissemination Workshop
DESCRIPTION:Come to our weekly dissemination workshop. \nLearn how to interest and involve your friends\, family and anyone you meet in learning how to better themselves and the world. \nEvery Thursday at 7pm.  \nRegister below. \n[easy_sign_up title=”Enroll here fir the dissemination workshop” phone=”1″ fnln=”1″ esu_label=”FSM Workshop” esu_class=”FSM Workshop”]
URL:https://scientologysanjose.org/event/dissemination-workshop/2026-08-27/
LOCATION:1083 South Winchester Blvd\, San Jose\, CA 95128\, United States
ORGANIZER;CN="Leslie Gibbons":MAILTO:info@scientologysanjose.org
END:VEVENT
BEGIN:VEVENT
DTSTART;TZID=America/Los_Angeles:20260903T190000
DTEND;TZID=America/Los_Angeles:20260903T200000
DTSTAMP:20260421T011636
CREATED:20240222T043650Z
LAST-MODIFIED:20240222T043650Z
UID:10000402-1788462000-1788465600@scientologysanjose.org
SUMMARY:Dissemination Workshop
DESCRIPTION:Come to our weekly dissemination workshop. \nLearn how to interest and involve your friends\, family and anyone you meet in learning how to better themselves and the world. \nEvery Thursday at 7pm.  \nRegister below. \n[easy_sign_up title=”Enroll here fir the dissemination workshop” phone=”1″ fnln=”1″ esu_label=”FSM Workshop” esu_class=”FSM Workshop”]
URL:https://scientologysanjose.org/event/dissemination-workshop/2026-09-03/
LOCATION:1083 South Winchester Blvd\, San Jose\, CA 95128\, United States
ORGANIZER;CN="Leslie Gibbons":MAILTO:info@scientologysanjose.org
END:VEVENT
BEGIN:VEVENT
DTSTART;TZID=America/Los_Angeles:20260910T190000
DTEND;TZID=America/Los_Angeles:20260910T200000
DTSTAMP:20260421T011636
CREATED:20240222T043650Z
LAST-MODIFIED:20240222T043650Z
UID:10000403-1789066800-1789070400@scientologysanjose.org
SUMMARY:Dissemination Workshop
DESCRIPTION:Come to our weekly dissemination workshop. \nLearn how to interest and involve your friends\, family and anyone you meet in learning how to better themselves and the world. \nEvery Thursday at 7pm.  \nRegister below. \n[easy_sign_up title=”Enroll here fir the dissemination workshop” phone=”1″ fnln=”1″ esu_label=”FSM Workshop” esu_class=”FSM Workshop”]
URL:https://scientologysanjose.org/event/dissemination-workshop/2026-09-10/
LOCATION:1083 South Winchester Blvd\, San Jose\, CA 95128\, United States
ORGANIZER;CN="Leslie Gibbons":MAILTO:info@scientologysanjose.org
END:VEVENT
BEGIN:VEVENT
DTSTART;TZID=America/Los_Angeles:20260917T190000
DTEND;TZID=America/Los_Angeles:20260917T200000
DTSTAMP:20260421T011636
CREATED:20240222T043650Z
LAST-MODIFIED:20240222T043650Z
UID:10000404-1789671600-1789675200@scientologysanjose.org
SUMMARY:Dissemination Workshop
DESCRIPTION:Come to our weekly dissemination workshop. \nLearn how to interest and involve your friends\, family and anyone you meet in learning how to better themselves and the world. \nEvery Thursday at 7pm.  \nRegister below. \n[easy_sign_up title=”Enroll here fir the dissemination workshop” phone=”1″ fnln=”1″ esu_label=”FSM Workshop” esu_class=”FSM Workshop”]
URL:https://scientologysanjose.org/event/dissemination-workshop/2026-09-17/
LOCATION:1083 South Winchester Blvd\, San Jose\, CA 95128\, United States
ORGANIZER;CN="Leslie Gibbons":MAILTO:info@scientologysanjose.org
END:VEVENT
BEGIN:VEVENT
DTSTART;TZID=America/Los_Angeles:20260924T190000
DTEND;TZID=America/Los_Angeles:20260924T200000
DTSTAMP:20260421T011636
CREATED:20240222T043650Z
LAST-MODIFIED:20240222T043650Z
UID:10000405-1790276400-1790280000@scientologysanjose.org
SUMMARY:Dissemination Workshop
DESCRIPTION:Come to our weekly dissemination workshop. \nLearn how to interest and involve your friends\, family and anyone you meet in learning how to better themselves and the world. \nEvery Thursday at 7pm.  \nRegister below. \n[easy_sign_up title=”Enroll here fir the dissemination workshop” phone=”1″ fnln=”1″ esu_label=”FSM Workshop” esu_class=”FSM Workshop”]
URL:https://scientologysanjose.org/event/dissemination-workshop/2026-09-24/
LOCATION:1083 South Winchester Blvd\, San Jose\, CA 95128\, United States
ORGANIZER;CN="Leslie Gibbons":MAILTO:info@scientologysanjose.org
END:VEVENT
BEGIN:VEVENT
DTSTART;TZID=America/Los_Angeles:20261001T190000
DTEND;TZID=America/Los_Angeles:20261001T200000
DTSTAMP:20260421T011636
CREATED:20240222T043650Z
LAST-MODIFIED:20240222T043650Z
UID:10000406-1790881200-1790884800@scientologysanjose.org
SUMMARY:Dissemination Workshop
DESCRIPTION:Come to our weekly dissemination workshop. \nLearn how to interest and involve your friends\, family and anyone you meet in learning how to better themselves and the world. \nEvery Thursday at 7pm.  \nRegister below. \n[easy_sign_up title=”Enroll here fir the dissemination workshop” phone=”1″ fnln=”1″ esu_label=”FSM Workshop” esu_class=”FSM Workshop”]
URL:https://scientologysanjose.org/event/dissemination-workshop/2026-10-01/
LOCATION:1083 South Winchester Blvd\, San Jose\, CA 95128\, United States
ORGANIZER;CN="Leslie Gibbons":MAILTO:info@scientologysanjose.org
END:VEVENT
BEGIN:VEVENT
DTSTART;TZID=America/Los_Angeles:20261008T190000
DTEND;TZID=America/Los_Angeles:20261008T200000
DTSTAMP:20260421T011636
CREATED:20240222T043650Z
LAST-MODIFIED:20240222T043650Z
UID:10000407-1791486000-1791489600@scientologysanjose.org
SUMMARY:Dissemination Workshop
DESCRIPTION:Come to our weekly dissemination workshop. \nLearn how to interest and involve your friends\, family and anyone you meet in learning how to better themselves and the world. \nEvery Thursday at 7pm.  \nRegister below. \n[easy_sign_up title=”Enroll here fir the dissemination workshop” phone=”1″ fnln=”1″ esu_label=”FSM Workshop” esu_class=”FSM Workshop”]
URL:https://scientologysanjose.org/event/dissemination-workshop/2026-10-08/
LOCATION:1083 South Winchester Blvd\, San Jose\, CA 95128\, United States
ORGANIZER;CN="Leslie Gibbons":MAILTO:info@scientologysanjose.org
END:VEVENT
BEGIN:VEVENT
DTSTART;TZID=America/Los_Angeles:20261015T190000
DTEND;TZID=America/Los_Angeles:20261015T200000
DTSTAMP:20260421T011636
CREATED:20240222T043650Z
LAST-MODIFIED:20240222T043650Z
UID:10000408-1792090800-1792094400@scientologysanjose.org
SUMMARY:Dissemination Workshop
DESCRIPTION:Come to our weekly dissemination workshop. \nLearn how to interest and involve your friends\, family and anyone you meet in learning how to better themselves and the world. \nEvery Thursday at 7pm.  \nRegister below. \n[easy_sign_up title=”Enroll here fir the dissemination workshop” phone=”1″ fnln=”1″ esu_label=”FSM Workshop” esu_class=”FSM Workshop”]
URL:https://scientologysanjose.org/event/dissemination-workshop/2026-10-15/
LOCATION:1083 South Winchester Blvd\, San Jose\, CA 95128\, United States
ORGANIZER;CN="Leslie Gibbons":MAILTO:info@scientologysanjose.org
END:VEVENT
BEGIN:VEVENT
DTSTART;TZID=America/Los_Angeles:20261022T190000
DTEND;TZID=America/Los_Angeles:20261022T200000
DTSTAMP:20260421T011636
CREATED:20240222T043650Z
LAST-MODIFIED:20240222T043650Z
UID:10000409-1792695600-1792699200@scientologysanjose.org
SUMMARY:Dissemination Workshop
DESCRIPTION:Come to our weekly dissemination workshop. \nLearn how to interest and involve your friends\, family and anyone you meet in learning how to better themselves and the world. \nEvery Thursday at 7pm.  \nRegister below. \n[easy_sign_up title=”Enroll here fir the dissemination workshop” phone=”1″ fnln=”1″ esu_label=”FSM Workshop” esu_class=”FSM Workshop”]
URL:https://scientologysanjose.org/event/dissemination-workshop/2026-10-22/
LOCATION:1083 South Winchester Blvd\, San Jose\, CA 95128\, United States
ORGANIZER;CN="Leslie Gibbons":MAILTO:info@scientologysanjose.org
END:VEVENT
BEGIN:VEVENT
DTSTART;TZID=America/Los_Angeles:20261029T190000
DTEND;TZID=America/Los_Angeles:20261029T200000
DTSTAMP:20260421T011636
CREATED:20240222T043650Z
LAST-MODIFIED:20240222T043650Z
UID:10000410-1793300400-1793304000@scientologysanjose.org
SUMMARY:Dissemination Workshop
DESCRIPTION:Come to our weekly dissemination workshop. \nLearn how to interest and involve your friends\, family and anyone you meet in learning how to better themselves and the world. \nEvery Thursday at 7pm.  \nRegister below. \n[easy_sign_up title=”Enroll here fir the dissemination workshop” phone=”1″ fnln=”1″ esu_label=”FSM Workshop” esu_class=”FSM Workshop”]
URL:https://scientologysanjose.org/event/dissemination-workshop/2026-10-29/
LOCATION:1083 South Winchester Blvd\, San Jose\, CA 95128\, United States
ORGANIZER;CN="Leslie Gibbons":MAILTO:info@scientologysanjose.org
END:VEVENT
BEGIN:VEVENT
DTSTART;TZID=America/Los_Angeles:20261105T190000
DTEND;TZID=America/Los_Angeles:20261105T200000
DTSTAMP:20260421T011636
CREATED:20240222T043650Z
LAST-MODIFIED:20240222T043650Z
UID:10000411-1793905200-1793908800@scientologysanjose.org
SUMMARY:Dissemination Workshop
DESCRIPTION:Come to our weekly dissemination workshop. \nLearn how to interest and involve your friends\, family and anyone you meet in learning how to better themselves and the world. \nEvery Thursday at 7pm.  \nRegister below. \n[easy_sign_up title=”Enroll here fir the dissemination workshop” phone=”1″ fnln=”1″ esu_label=”FSM Workshop” esu_class=”FSM Workshop”]
URL:https://scientologysanjose.org/event/dissemination-workshop/2026-11-05/
LOCATION:1083 South Winchester Blvd\, San Jose\, CA 95128\, United States
ORGANIZER;CN="Leslie Gibbons":MAILTO:info@scientologysanjose.org
END:VEVENT
BEGIN:VEVENT
DTSTART;TZID=America/Los_Angeles:20261112T190000
DTEND;TZID=America/Los_Angeles:20261112T200000
DTSTAMP:20260421T011636
CREATED:20240222T043650Z
LAST-MODIFIED:20240222T043650Z
UID:10000412-1794510000-1794513600@scientologysanjose.org
SUMMARY:Dissemination Workshop
DESCRIPTION:Come to our weekly dissemination workshop. \nLearn how to interest and involve your friends\, family and anyone you meet in learning how to better themselves and the world. \nEvery Thursday at 7pm.  \nRegister below. \n[easy_sign_up title=”Enroll here fir the dissemination workshop” phone=”1″ fnln=”1″ esu_label=”FSM Workshop” esu_class=”FSM Workshop”]
URL:https://scientologysanjose.org/event/dissemination-workshop/2026-11-12/
LOCATION:1083 South Winchester Blvd\, San Jose\, CA 95128\, United States
ORGANIZER;CN="Leslie Gibbons":MAILTO:info@scientologysanjose.org
END:VEVENT
END:VCALENDAR